BEGIN:VCALENDAR
VERSION:2.0
PRODID:-//I Have RAM - ECPv6.15.18//NONSGML v1.0//EN
CALSCALE:GREGORIAN
METHOD:PUBLISH
X-ORIGINAL-URL:https://www.ihaveram.cz
X-WR-CALDESC:Akce na I Have RAM
REFRESH-INTERVAL;VALUE=DURATION:PT1H
X-Robots-Tag:noindex
X-PUBLISHED-TTL:PT1H
BEGIN:VTIMEZONE
TZID:Europe/Prague
BEGIN:DAYLIGHT
TZOFFSETFROM:+0100
TZOFFSETTO:+0200
TZNAME:CEST
DTSTART:20250330T010000
END:DAYLIGHT
BEGIN:STANDARD
TZOFFSETFROM:+0200
TZOFFSETTO:+0100
TZNAME:CET
DTSTART:20251026T010000
END:STANDARD
BEGIN:DAYLIGHT
TZOFFSETFROM:+0100
TZOFFSETTO:+0200
TZNAME:CEST
DTSTART:20260329T010000
END:DAYLIGHT
BEGIN:STANDARD
TZOFFSETFROM:+0200
TZOFFSETTO:+0100
TZNAME:CET
DTSTART:20261025T010000
END:STANDARD
BEGIN:DAYLIGHT
TZOFFSETFROM:+0100
TZOFFSETTO:+0200
TZNAME:CEST
DTSTART:20270328T010000
END:DAYLIGHT
BEGIN:STANDARD
TZOFFSETFROM:+0200
TZOFFSETTO:+0100
TZNAME:CET
DTSTART:20271031T010000
END:STANDARD
END:VTIMEZONE
BEGIN:VEVENT
DTSTART;TZID=Europe/Prague:20260515T100000
DTEND;TZID=Europe/Prague:20260517T190000
DTSTAMP:20260423T122945
CREATED:20260222T084247Z
LAST-MODIFIED:20260222T084247Z
UID:591-1778839200-1779044400@www.ihaveram.cz
SUMMARY:5. AMERIKY MEZI SKLEPY 2025
DESCRIPTION:
URL:https://www.ihaveram.cz/event/5-ameriky-mezi-sklepy-2025/
LOCATION:Mutěnice\, Amfiteátr Pod Bůdama\, Mutějice\, Czech Republic
CATEGORIES:Akce v ČR
ATTACH;FMTTYPE=image/jpeg:https://www.ihaveram.cz/wp-content/uploads/2026/02/513506160_1278347257632538_162302095552550903_n.jpg
END:VEVENT
BEGIN:VEVENT
DTSTART;TZID=Europe/Prague:20260523T100000
DTEND;TZID=Europe/Prague:20260523T160000
DTSTAMP:20260423T122945
CREATED:20260415T193308Z
LAST-MODIFIED:20260421T120144Z
UID:884-1779530400-1779552000@www.ihaveram.cz
SUMMARY:Ameriky v Zichovci
DESCRIPTION:Spolupráce klubu Muscle Banda a rodinného pivovaru Zichovec nám přináší 2. ročník srazu amerických aut a motorek v příjemném prostředí pivovarské restaurace Zichovec\, který se koná ve stejnojmenné obci. Těšit se můžete na spoustu dobrého jídla a pití\, amerických aut a motorek\, živou hudbu\, doprovodný program\, spanilou jízdu a pro velké milovníky piva nejen limitovaná edice piv pro tuto událost\, ale i možnost ubytování v penzionu\, který sousedí s restaurací\, ať si můžete den a večer patřičně užít. O živou hudbu se postará místní kapela NĚKDY DOBRÝ. Společně s našimi partnery akce vybereme a vyhlásíme TOP AMERIKY SRAZU\, které obdrží věcné ceny. Akci moderuje Kuba Nágl. Foto a video výstup z akce bude zveřejněn pár dnů po akci. Pro veškeré informace sledujte příspěvky v této události.\nPROGRAM:10:00 Zpřístupnění areálu11:00 Zahájení akce13:00 Vyhlášení TOP Amerik srazuxx:xx Živá hudba NĚKDY DOBRÝ14:00 Spanilá jízda15:00 Příjezd ze spanilé jízdy16:00 Ukončení akceZbytek programu zveřejníme\nSPANILÁ JÍZDA: https://www.google.com/…/data=!4m17!4m16!1m5!3m4!1m2…\nCENÍK:Vstupné je pro každého ZDARMA.Parkové Ameriky 200Kč/auto.\nPARTNEŘI AKCE: Amsoil\, Pivovar Zichovec\, Indian\, Auto Eder\, Crystal Cruisers\, U.S. Care\nZbytek informací zveřejníme brzy.\nTěšíme se na vás.
URL:https://www.ihaveram.cz/event/ameriky-v-zichovci/
LOCATION:Zichovec\, Zichovec 99\, Zichovec\, 273 74
CATEGORIES:Akce v ČR
ATTACH;FMTTYPE=image/jpeg:https://www.ihaveram.cz/wp-content/uploads/2026/04/589318036_1491337519659126_403158440640764340_n.jpg
END:VEVENT
BEGIN:VEVENT
DTSTART;TZID=Europe/Prague:20260529T080000
DTEND;TZID=Europe/Prague:20260531T170000
DTSTAMP:20260423T122945
CREATED:20260421T111315Z
LAST-MODIFIED:20260421T111315Z
UID:1116-1780041600-1780246800@www.ihaveram.cz
SUMMARY:LEGENDY 2026 - Automobilová slavnost
DESCRIPTION:Největší česká automobilová slavnost a výstava\, která byla založena v roce 2013. Prestižní akce\, které se účastní významní sběratelé automobilů\, automobilové kluby a automobilky.\n20+ automobilových klubů = 500 krásných vozů z různé doby10+ automobilek – novinky\, budoucnost mobility\, zajímavosti50+ občerstvení – různorodé kvalitní stánkyAutosalon.tv Show – osobnosti a auta naživoFMX show Petra Piláta a jeho crewJEEP Polygon – svezení v Jeepech Land Rover Parade – svezení v historických vozech USA Centrum – grilování\, bar a ameriky V8Anglická noblesa – Jaguar\, Bentley\, RollsRoycea samozřejmě PAVILONY – 4 haly plné nádherných vozů\nPátek= Exclusive Day – v prodeji pouze 1500 vstupenekSobota a Neděle – stejný bohatý program a rozsah
URL:https://www.ihaveram.cz/event/legendy-2026-automobilova-slavnost/
LOCATION:Holešovice\, Výstaviště Praha Holešovice\, Praha\, 17000
CATEGORIES:Akce v ČR
ATTACH;FMTTYPE=image/jpeg:https://www.ihaveram.cz/wp-content/uploads/2026/04/554100150_1150546333846660_1690787388411991512_n-scaled.jpg
END:VEVENT
BEGIN:VEVENT
DTSTART;TZID=Europe/Prague:20260531T080000
DTEND;TZID=Europe/Prague:20260531T170000
DTSTAMP:20260423T122945
CREATED:20260422T080835Z
LAST-MODIFIED:20260422T080835Z
UID:1249-1780214400-1780246800@www.ihaveram.cz
SUMMARY:Ameriky na Kačině 4
DESCRIPTION:31.5. 2026 \n8:00-16:00\n Zámek Kačina (u Kutné Hory) \nJsou vítány Americké stroje všech kategorií a ročníků! \nVstupné veřejnost – 200kčDítě do 15 let ZDARMAVstupné vystavující – 200kč auto včetně posádky\nAkci moderuje Mates Dvořák z pořadu “Ukaž Káru” Bohaté občerstvení Soutěže Ceny Zábava pro děti Vyhlídkové lety vrtulníkem Jízdy na koních
URL:https://www.ihaveram.cz/event/ameriky-na-kacine-4/
LOCATION:Kačina\, Svatý Mikuláš 51\, Kutná Hora\, 28401\, Czech Republic
CATEGORIES:Akce v ČR
ATTACH;FMTTYPE=image/jpeg:https://www.ihaveram.cz/wp-content/uploads/2026/04/31.5-KACINA.jpg
END:VEVENT
END:VCALENDAR